BEGIN:VCALENDAR
VERSION:2.0
PRODID:-//eventon.com NONSGML v1.0//EN
CALSCALE:GREGORIAN
METHOD:PUBLISH
BEGIN:VEVENT
UID:69e5e16936e56
DTSTAMP:20260420T081849Z
DTSTART:20260130T010000Z
DTEND:20260130T055900Z
LOCATION:
SUMMARY:Line Dancing with KK
DESCRIPTION:Line Dancing with KK\nhttps://silverslipper-ms.com/events/line-
 dancing-with-kk/
URL:https://silverslipper-ms.com/events/line-dancing-with-kk/
END:VEVENT
END:VCALENDAR